BEGIN:VCALENDAR
VERSION:2.0
PRODID:-//OMEGA Gymnastics - ECPv6.6.1//NONSGML v1.0//EN
CALSCALE:GREGORIAN
METHOD:PUBLISH
X-ORIGINAL-URL:https://www.omega-gymnastics.com
X-WR-CALDESC:Events for OMEGA Gymnastics
REFRESH-INTERVAL;VALUE=DURATION:PT1H
X-Robots-Tag:noindex
X-PUBLISHED-TTL:PT1H
BEGIN:VTIMEZONE
TZID:America/Los_Angeles
BEGIN:DAYLIGHT
TZOFFSETFROM:-0800
TZOFFSETTO:-0700
TZNAME:PDT
DTSTART:20250309T100000
END:DAYLIGHT
BEGIN:STANDARD
TZOFFSETFROM:-0700
TZOFFSETTO:-0800
TZNAME:PST
DTSTART:20251102T090000
END:STANDARD
END:VTIMEZONE
BEGIN:VEVENT
DTSTART;TZID=America/Los_Angeles:20250608T160000
DTEND;TZID=America/Los_Angeles:20250608T190000
DTSTAMP:20260419T213259
CREATED:20250424T214430Z
LAST-MODIFIED:20250424T215044Z
UID:10003649-1749398400-1749409200@www.omega-gymnastics.com
SUMMARY:Team Banquet - XCEL
DESCRIPTION:Annual celebration of the Competitive Season attended by Athlete\, Parent (1)\, and Coach. \nMore specific details announced each year via email.
URL:https://www.omega-gymnastics.com/event/team-banquet-xcel/
LOCATION:The Stockpot Restaurant\, 8200 Southwest Scholls Ferry Road\, Beaverton\, OR\, 97008\, United States
CATEGORIES:Competitive Program
ORGANIZER;CN="OMEGA Gymnastics":MAILTO:info@omega-gymnastics.com
END:VEVENT
BEGIN:VEVENT
DTSTART;TZID=America/Los_Angeles:20250608T120000
DTEND;TZID=America/Los_Angeles:20250608T150000
DTSTAMP:20260419T213259
CREATED:20250424T214701Z
LAST-MODIFIED:20250424T215106Z
UID:10003650-1749384000-1749394800@www.omega-gymnastics.com
SUMMARY:Team Banquet - Compulsory Girls
DESCRIPTION:Annual celebration of the Competitive Season attended by Athlete\, Parent (1)\, and Coach. \nMore specific details announced each year via email.
URL:https://www.omega-gymnastics.com/event/team-banquet-compulsory-girls/
LOCATION:The Stockpot Restaurant\, 8200 Southwest Scholls Ferry Road\, Beaverton\, OR\, 97008\, United States
CATEGORIES:Competitive Program
ORGANIZER;CN="OMEGA Gymnastics":MAILTO:info@omega-gymnastics.com
END:VEVENT
BEGIN:VEVENT
DTSTART;TZID=America/Los_Angeles:20250607T160000
DTEND;TZID=America/Los_Angeles:20250607T190000
DTSTAMP:20260419T213259
CREATED:20250424T213359Z
LAST-MODIFIED:20250424T214444Z
UID:10003647-1749312000-1749322800@www.omega-gymnastics.com
SUMMARY:Team Banquet - Boys
DESCRIPTION:Annual celebration of the Competitive Season attended by Athlete\, Parent (1)\, and Coach. \nMore specific details announced each year via email.
URL:https://www.omega-gymnastics.com/event/team-banquet-boys/
LOCATION:The Stockpot Restaurant\, 8200 Southwest Scholls Ferry Road\, Beaverton\, OR\, 97008\, United States
CATEGORIES:Competitive Program
ORGANIZER;CN="OMEGA Gymnastics":MAILTO:info@omega-gymnastics.com
END:VEVENT
BEGIN:VEVENT
DTSTART;TZID=America/Los_Angeles:20250607T120000
DTEND;TZID=America/Los_Angeles:20250607T150000
DTSTAMP:20260419T213259
CREATED:20250424T213615Z
LAST-MODIFIED:20250424T214043Z
UID:10003648-1749297600-1749308400@www.omega-gymnastics.com
SUMMARY:Team Banquet - Optional Girls
DESCRIPTION:Annual celebration of the Competitive Season attended by Athlete\, Parent (1)\, and Coach. \nMore specific details announced each year via email. \n 
URL:https://www.omega-gymnastics.com/event/team-banquet-optional-girls/
LOCATION:The Stockpot Restaurant\, 8200 Southwest Scholls Ferry Road\, Beaverton\, OR\, 97008\, United States
CATEGORIES:Competitive Program
ORGANIZER;CN="OMEGA Gymnastics":MAILTO:info@omega-gymnastics.com
END:VEVENT
END:VCALENDAR