BEGIN:VCALENDAR
VERSION:2.0
PRODID:-//OMEGA Gymnastics - ECPv6.6.1//NONSGML v1.0//EN
CALSCALE:GREGORIAN
METHOD:PUBLISH
X-ORIGINAL-URL:https://www.omega-gymnastics.com
X-WR-CALDESC:Events for OMEGA Gymnastics
REFRESH-INTERVAL;VALUE=DURATION:PT1H
X-Robots-Tag:noindex
X-PUBLISHED-TTL:PT1H
BEGIN:VTIMEZONE
TZID:America/Los_Angeles
BEGIN:DAYLIGHT
TZOFFSETFROM:-0800
TZOFFSETTO:-0700
TZNAME:PDT
DTSTART:20250309T100000
END:DAYLIGHT
BEGIN:STANDARD
TZOFFSETFROM:-0700
TZOFFSETTO:-0800
TZNAME:PST
DTSTART:20251102T090000
END:STANDARD
END:VTIMEZONE
BEGIN:VEVENT
DTSTART;VALUE=DATE:20251115
DTEND;VALUE=DATE:20251116
DTSTAMP:20260420T050214
CREATED:20251022T011153Z
LAST-MODIFIED:20251022T011328Z
UID:10003871-1763164800-1763251199@www.omega-gymnastics.com
SUMMARY:No Classes
DESCRIPTION:No Classes – Gymnastics “in service” day\nAll Classes\, Competitive Team Practices\, Parties and other activities cancelled for the day. \nOMEGA is hosting an event at the gym for Rec Gym Pros.  Gymnastics Coaching and Administrative Staff from gyms around the region are attending classes and training sessions at OMEGA.
URL:https://www.omega-gymnastics.com/event/no-classes/2025-11-15/
LOCATION:OR
CATEGORIES:OMEGA Closures,Recreational Classes
ATTACH;FMTTYPE=image/png:https://www.omega-gymnastics.com/wp-content/uploads/2025/10/NO-CLASSES-OMEGA-HOSTED-EVENT.png
END:VEVENT
BEGIN:VEVENT
DTSTART;VALUE=DATE:20251116
DTEND;VALUE=DATE:20251117
DTSTAMP:20260420T050214
CREATED:20251022T011153Z
LAST-MODIFIED:20251022T011328Z
UID:10003872-1763251200-1763337599@www.omega-gymnastics.com
SUMMARY:No Classes
DESCRIPTION:No Classes – Gymnastics “in service” day\nAll Classes\, Competitive Team Practices\, Parties and other activities cancelled for the day. \nOMEGA is hosting an event at the gym for Rec Gym Pros.  Gymnastics Coaching and Administrative Staff from gyms around the region are attending classes and training sessions at OMEGA.
URL:https://www.omega-gymnastics.com/event/no-classes/2025-11-16/
LOCATION:OR
CATEGORIES:OMEGA Closures,Recreational Classes
ATTACH;FMTTYPE=image/png:https://www.omega-gymnastics.com/wp-content/uploads/2025/10/NO-CLASSES-OMEGA-HOSTED-EVENT.png
END:VEVENT
BEGIN:VEVENT
DTSTART;VALUE=DATE:20251130
DTEND;VALUE=DATE:20251214
DTSTAMP:20260420T050214
CREATED:20251002T181456Z
LAST-MODIFIED:20251002T181456Z
UID:10003697-1764460800-1765670399@www.omega-gymnastics.com
SUMMARY:Skills Testing
DESCRIPTION:Recreational Program Skills Testing \nAll levels:  Tiny Titans\, Demi-Gods\, and Titans Classes
URL:https://www.omega-gymnastics.com/event/skills-testing-4/
LOCATION:OMEGA Gymnastics\, 9700 SW Harvest Ct STE 180\, Beaverton\, OR\, 97005\, United States
CATEGORIES:Recreational Classes
ATTACH;FMTTYPE=image/jpeg:https://www.omega-gymnastics.com/wp-content/uploads/2023/09/SKILLS_TEST_WEB3.jpg
ORGANIZER;CN="OMEGA Gymnastics":MAILTO:info@omega-gymnastics.com
END:VEVENT
END:VCALENDAR