BEGIN:VCALENDAR
VERSION:2.0
PRODID:-//OMEGA Gymnastics - ECPv6.6.1//NONSGML v1.0//EN
CALSCALE:GREGORIAN
METHOD:PUBLISH
X-ORIGINAL-URL:https://www.omega-gymnastics.com
X-WR-CALDESC:Events for OMEGA Gymnastics
REFRESH-INTERVAL;VALUE=DURATION:PT1H
X-Robots-Tag:noindex
X-PUBLISHED-TTL:PT1H
BEGIN:VTIMEZONE
TZID:America/Los_Angeles
BEGIN:DAYLIGHT
TZOFFSETFROM:-0800
TZOFFSETTO:-0700
TZNAME:PDT
DTSTART:20250309T100000
END:DAYLIGHT
BEGIN:STANDARD
TZOFFSETFROM:-0700
TZOFFSETTO:-0800
TZNAME:PST
DTSTART:20251102T090000
END:STANDARD
BEGIN:DAYLIGHT
TZOFFSETFROM:-0800
TZOFFSETTO:-0700
TZNAME:PDT
DTSTART:20260308T100000
END:DAYLIGHT
BEGIN:STANDARD
TZOFFSETFROM:-0700
TZOFFSETTO:-0800
TZNAME:PST
DTSTART:20261101T090000
END:STANDARD
END:VTIMEZONE
BEGIN:VEVENT
DTSTART;TZID=America/Los_Angeles:20250603T130000
DTEND;TZID=America/Los_Angeles:20250603T140000
DTSTAMP:20260420T192342
CREATED:20250401T180407Z
LAST-MODIFIED:20250401T180407Z
UID:10003639-1748955600-1748959200@www.omega-gymnastics.com
SUMMARY:Preschool Open Play
DESCRIPTION:Instructor led play for all skill levels ages 2 – 6 years old. One hour time includes group warm up and open play time. \nA guardian must stay and be on the floor for any child under 3 years of age unless enrolled in our Discovery program. Parent is not an additional cost but all release paperwork is required. \n  \n$12 per student pre-registered  /  $15 per student walk-in \n  \n**Spring Promo – Free class – April 1-10\, 2025.  See Front Desk for credit information**
URL:https://www.omega-gymnastics.com/event/preschool-open-play/2025-06-03/
LOCATION:OMEGA Gymnastics\, 9700 SW Harvest Ct STE 180\, Beaverton\, OR\, 97005\, United States
CATEGORIES:Preschool,Preschool Play
ATTACH;FMTTYPE=image/jpeg:https://www.omega-gymnastics.com/wp-content/uploads/2025/04/PRESCHOOL_PLAY-scaled.jpg
END:VEVENT
BEGIN:VEVENT
DTSTART;TZID=America/Los_Angeles:20250604T130000
DTEND;TZID=America/Los_Angeles:20250604T140000
DTSTAMP:20260420T192342
CREATED:20250401T180407Z
LAST-MODIFIED:20250401T180407Z
UID:10003640-1749042000-1749045600@www.omega-gymnastics.com
SUMMARY:Preschool Open Play
DESCRIPTION:Instructor led play for all skill levels ages 2 – 6 years old. One hour time includes group warm up and open play time. \nA guardian must stay and be on the floor for any child under 3 years of age unless enrolled in our Discovery program. Parent is not an additional cost but all release paperwork is required. \n  \n$12 per student pre-registered  /  $15 per student walk-in \n  \n**Spring Promo – Free class – April 1-10\, 2025.  See Front Desk for credit information**
URL:https://www.omega-gymnastics.com/event/preschool-open-play/2025-06-04/
LOCATION:OMEGA Gymnastics\, 9700 SW Harvest Ct STE 180\, Beaverton\, OR\, 97005\, United States
CATEGORIES:Preschool,Preschool Play
ATTACH;FMTTYPE=image/jpeg:https://www.omega-gymnastics.com/wp-content/uploads/2025/04/PRESCHOOL_PLAY-scaled.jpg
END:VEVENT
BEGIN:VEVENT
DTSTART;TZID=America/Los_Angeles:20250605T114500
DTEND;TZID=America/Los_Angeles:20250605T124500
DTSTAMP:20260420T192342
CREATED:20250315T221433Z
LAST-MODIFIED:20250315T222251Z
UID:10003602-1749123900-1749127500@www.omega-gymnastics.com
SUMMARY:Discovery Preschool Showcase
DESCRIPTION:OMEGA’s Discovery Preschool Showcase is happening in June this year.  Discovery Preschoolers show off the skills they have learned during the school year by performing routines for their parents.  The Showcase participation fee includes their uniform and award.  The uniform is also worn for group pictures. \n  \nStay tuned to email and class newsletter for special announcements from the Discovery Preschool Program staff.
URL:https://www.omega-gymnastics.com/event/discovery-preschool-showcase/
LOCATION:OMEGA Gymnastics\, 9700 SW Harvest Ct STE 180\, Beaverton\, OR\, 97005\, United States
CATEGORIES:Preschool
ATTACH;FMTTYPE=image/png:https://www.omega-gymnastics.com/wp-content/uploads/2025/03/Showcase-Web-Instagram-Post-1.png
END:VEVENT
BEGIN:VEVENT
DTSTART;TZID=America/Los_Angeles:20250605T130000
DTEND;TZID=America/Los_Angeles:20250605T140000
DTSTAMP:20260420T192342
CREATED:20250401T180407Z
LAST-MODIFIED:20250401T180407Z
UID:10003641-1749128400-1749132000@www.omega-gymnastics.com
SUMMARY:Preschool Open Play
DESCRIPTION:Instructor led play for all skill levels ages 2 – 6 years old. One hour time includes group warm up and open play time. \nA guardian must stay and be on the floor for any child under 3 years of age unless enrolled in our Discovery program. Parent is not an additional cost but all release paperwork is required. \n  \n$12 per student pre-registered  /  $15 per student walk-in \n  \n**Spring Promo – Free class – April 1-10\, 2025.  See Front Desk for credit information**
URL:https://www.omega-gymnastics.com/event/preschool-open-play/2025-06-05/
LOCATION:OMEGA Gymnastics\, 9700 SW Harvest Ct STE 180\, Beaverton\, OR\, 97005\, United States
CATEGORIES:Preschool,Preschool Play
ATTACH;FMTTYPE=image/jpeg:https://www.omega-gymnastics.com/wp-content/uploads/2025/04/PRESCHOOL_PLAY-scaled.jpg
END:VEVENT
BEGIN:VEVENT
DTSTART;TZID=America/Los_Angeles:20250609T130000
DTEND;TZID=America/Los_Angeles:20250609T140000
DTSTAMP:20260420T192342
CREATED:20250401T180407Z
LAST-MODIFIED:20250401T180407Z
UID:10003642-1749474000-1749477600@www.omega-gymnastics.com
SUMMARY:Preschool Open Play
DESCRIPTION:Instructor led play for all skill levels ages 2 – 6 years old. One hour time includes group warm up and open play time. \nA guardian must stay and be on the floor for any child under 3 years of age unless enrolled in our Discovery program. Parent is not an additional cost but all release paperwork is required. \n  \n$12 per student pre-registered  /  $15 per student walk-in \n  \n**Spring Promo – Free class – April 1-10\, 2025.  See Front Desk for credit information**
URL:https://www.omega-gymnastics.com/event/preschool-open-play/2025-06-09/
LOCATION:OMEGA Gymnastics\, 9700 SW Harvest Ct STE 180\, Beaverton\, OR\, 97005\, United States
CATEGORIES:Preschool,Preschool Play
ATTACH;FMTTYPE=image/jpeg:https://www.omega-gymnastics.com/wp-content/uploads/2025/04/PRESCHOOL_PLAY-scaled.jpg
END:VEVENT
BEGIN:VEVENT
DTSTART;TZID=America/Los_Angeles:20250610T130000
DTEND;TZID=America/Los_Angeles:20250610T140000
DTSTAMP:20260420T192342
CREATED:20250401T180407Z
LAST-MODIFIED:20250401T180407Z
UID:10003643-1749560400-1749564000@www.omega-gymnastics.com
SUMMARY:Preschool Open Play
DESCRIPTION:Instructor led play for all skill levels ages 2 – 6 years old. One hour time includes group warm up and open play time. \nA guardian must stay and be on the floor for any child under 3 years of age unless enrolled in our Discovery program. Parent is not an additional cost but all release paperwork is required. \n  \n$12 per student pre-registered  /  $15 per student walk-in \n  \n**Spring Promo – Free class – April 1-10\, 2025.  See Front Desk for credit information**
URL:https://www.omega-gymnastics.com/event/preschool-open-play/2025-06-10/
LOCATION:OMEGA Gymnastics\, 9700 SW Harvest Ct STE 180\, Beaverton\, OR\, 97005\, United States
CATEGORIES:Preschool,Preschool Play
ATTACH;FMTTYPE=image/jpeg:https://www.omega-gymnastics.com/wp-content/uploads/2025/04/PRESCHOOL_PLAY-scaled.jpg
END:VEVENT
BEGIN:VEVENT
DTSTART;TZID=America/Los_Angeles:20250611T130000
DTEND;TZID=America/Los_Angeles:20250611T140000
DTSTAMP:20260420T192342
CREATED:20250401T180407Z
LAST-MODIFIED:20250401T180407Z
UID:10003644-1749646800-1749650400@www.omega-gymnastics.com
SUMMARY:Preschool Open Play
DESCRIPTION:Instructor led play for all skill levels ages 2 – 6 years old. One hour time includes group warm up and open play time. \nA guardian must stay and be on the floor for any child under 3 years of age unless enrolled in our Discovery program. Parent is not an additional cost but all release paperwork is required. \n  \n$12 per student pre-registered  /  $15 per student walk-in \n  \n**Spring Promo – Free class – April 1-10\, 2025.  See Front Desk for credit information**
URL:https://www.omega-gymnastics.com/event/preschool-open-play/2025-06-11/
LOCATION:OMEGA Gymnastics\, 9700 SW Harvest Ct STE 180\, Beaverton\, OR\, 97005\, United States
CATEGORIES:Preschool,Preschool Play
ATTACH;FMTTYPE=image/jpeg:https://www.omega-gymnastics.com/wp-content/uploads/2025/04/PRESCHOOL_PLAY-scaled.jpg
END:VEVENT
BEGIN:VEVENT
DTSTART;TZID=America/Los_Angeles:20251022T120000
DTEND;TZID=America/Los_Angeles:20251022T140000
DTSTAMP:20260420T192342
CREATED:20250910T023120Z
LAST-MODIFIED:20250910T025245Z
UID:10003693-1761134400-1761141600@www.omega-gymnastics.com
SUMMARY:Preschool Open House
DESCRIPTION:Discovery Preschool Open House\n\nYou’re never too young to begin exploring! \n\nJoin us at OMEGA’s Discovery Preschool Open House and experience a glimpse into the joyful\, active\, and enriching world of your future preschooler. This special event offers families the chance to explore our vibrant learning environment\, meet our caring educators\, and discover how our unique blend of academics and gymnastics helps children build confidence\, coordination\, and curiosity. Come see how we make every day an adventure in learning! \n\nPre-registration is encouraged.  If you miss this opportunity\, call or email to request a private tour.  Registration for the 2025-2026 School Year has openings (limited number). \n\n 
URL:https://www.omega-gymnastics.com/event/preschool-open-house-10/
LOCATION:OMEGA Gymnastics\, 9700 SW Harvest Ct STE 180\, Beaverton\, OR\, 97005\, United States
CATEGORIES:Preschool
ATTACH;FMTTYPE=image/png:https://www.omega-gymnastics.com/wp-content/uploads/2024/09/DISCOVERY-WEB_SLIDE_EVENT-09262024.png
ORGANIZER;CN="OMEGA Gymnastics":MAILTO:info@omega-gymnastics.com
END:VEVENT
BEGIN:VEVENT
DTSTART;TZID=America/Los_Angeles:20260115T120000
DTEND;TZID=America/Los_Angeles:20260115T140000
DTSTAMP:20260420T192342
CREATED:20250910T024840Z
LAST-MODIFIED:20250910T025903Z
UID:10003694-1768478400-1768485600@www.omega-gymnastics.com
SUMMARY:Preschool Open House
DESCRIPTION:Discovery Preschool Open House\nYou’re never too young to begin exploring! \n\nJoin us at OMEGA’s Discovery Preschool Open House and experience a glimpse into the joyful\, active\, and enriching world of your future preschooler. This special event offers families the chance to explore our vibrant learning environment\, meet our caring educators\, and discover how our unique blend of academics and gymnastics helps children build confidence\, coordination\, and curiosity. Come see how we make every day an adventure in learning! \n\nPre-registration is encouraged.  If you miss this opportunity\, call or email to request a private tour.  Registration for the 2025-2026 School Year has openings (limited number). \n\n 
URL:https://www.omega-gymnastics.com/event/preschool-open-house-11/
LOCATION:OMEGA Gymnastics\, 9700 SW Harvest Ct STE 180\, Beaverton\, OR\, 97005\, United States
CATEGORIES:Preschool
ATTACH;FMTTYPE=image/png:https://www.omega-gymnastics.com/wp-content/uploads/2024/09/DISCOVERY-WEB_SLIDE_EVENT-09262024.png
ORGANIZER;CN="OMEGA Gymnastics":MAILTO:info@omega-gymnastics.com
END:VEVENT
BEGIN:VEVENT
DTSTART;TZID=America/Los_Angeles:20260211T120000
DTEND;TZID=America/Los_Angeles:20260211T140000
DTSTAMP:20260420T192342
CREATED:20250910T025608Z
LAST-MODIFIED:20250910T025934Z
UID:10003695-1770811200-1770818400@www.omega-gymnastics.com
SUMMARY:Preschool Open House
DESCRIPTION:Discovery Preschool Open House\nYou’re never too young to begin exploring! \n\nJoin us at OMEGA’s Discovery Preschool Open House and experience a glimpse into the joyful\, active\, and enriching world of your future preschooler. This special event offers families the chance to explore our vibrant learning environment\, meet our caring educators\, and discover how our unique blend of academics and gymnastics helps children build confidence\, coordination\, and curiosity. Come see how we make every day an adventure in learning! \n\nPre-registration is encouraged.  If you miss this opportunity\, call or email to request a private tour.  Registration for the 2025-2026 School Year has openings (limited number). \n\n 
URL:https://www.omega-gymnastics.com/event/preschool-open-house-12/
LOCATION:OMEGA Gymnastics\, 9700 SW Harvest Ct STE 180\, Beaverton\, OR\, 97005\, United States
CATEGORIES:Preschool
ATTACH;FMTTYPE=image/png:https://www.omega-gymnastics.com/wp-content/uploads/2024/09/DISCOVERY-WEB_SLIDE_EVENT-09262024.png
ORGANIZER;CN="OMEGA Gymnastics":MAILTO:info@omega-gymnastics.com
END:VEVENT
BEGIN:VEVENT
DTSTART;TZID=America/Los_Angeles:20260528T114500
DTEND;TZID=America/Los_Angeles:20260528T124500
DTSTAMP:20260420T192342
CREATED:20260220T200127Z
LAST-MODIFIED:20260220T200127Z
UID:10003894-1779968700-1779972300@www.omega-gymnastics.com
SUMMARY:Discovery Preschool Showcase
DESCRIPTION:OMEGA’s Discovery Preschool Showcase\nOur Discovery Preschoolers show off the skills they have learned during the school year by performing routines for their parents.  The Showcase participation fee includes their uniform and award. \nStay tuned to email and class newsletter for special announcements from the Discovery Preschool Program staff.
URL:https://www.omega-gymnastics.com/event/discovery-preschool-showcase-2/
LOCATION:OMEGA Gymnastics\, 9700 SW Harvest Ct STE 180\, Beaverton\, OR\, 97005\, United States
CATEGORIES:Preschool
ATTACH;FMTTYPE=image/png:https://www.omega-gymnastics.com/wp-content/uploads/2025/03/Showcase-Web-Instagram-Post-1.png
END:VEVENT
END:VCALENDAR