BEGIN:VCALENDAR
VERSION:2.0
PRODID:-//OMEGA Gymnastics - ECPv6.6.1//NONSGML v1.0//EN
CALSCALE:GREGORIAN
METHOD:PUBLISH
X-WR-CALNAME:OMEGA Gymnastics
X-ORIGINAL-URL:https://www.omega-gymnastics.com
X-WR-CALDESC:Events for OMEGA Gymnastics
REFRESH-INTERVAL;VALUE=DURATION:PT1H
X-Robots-Tag:noindex
X-PUBLISHED-TTL:PT1H
BEGIN:VTIMEZONE
TZID:America/Los_Angeles
BEGIN:DAYLIGHT
TZOFFSETFROM:-0800
TZOFFSETTO:-0700
TZNAME:PDT
DTSTART:20250309T100000
END:DAYLIGHT
BEGIN:STANDARD
TZOFFSETFROM:-0700
TZOFFSETTO:-0800
TZNAME:PST
DTSTART:20251102T090000
END:STANDARD
END:VTIMEZONE
BEGIN:VEVENT
DTSTART;TZID=America/Los_Angeles:20250605T114500
DTEND;TZID=America/Los_Angeles:20250605T124500
DTSTAMP:20260419T231054
CREATED:20250315T221433Z
LAST-MODIFIED:20250315T222251Z
UID:10003602-1749123900-1749127500@www.omega-gymnastics.com
SUMMARY:Discovery Preschool Showcase
DESCRIPTION:OMEGA’s Discovery Preschool Showcase is happening in June this year.  Discovery Preschoolers show off the skills they have learned during the school year by performing routines for their parents.  The Showcase participation fee includes their uniform and award.  The uniform is also worn for group pictures. \n  \nStay tuned to email and class newsletter for special announcements from the Discovery Preschool Program staff.
URL:https://www.omega-gymnastics.com/event/discovery-preschool-showcase/
LOCATION:OMEGA Gymnastics\, 9700 SW Harvest Ct STE 180\, Beaverton\, OR\, 97005\, United States
CATEGORIES:Preschool
ATTACH;FMTTYPE=image/png:https://www.omega-gymnastics.com/wp-content/uploads/2025/03/Showcase-Web-Instagram-Post-1.png
END:VEVENT
BEGIN:VEVENT
DTSTART;TZID=America/Los_Angeles:20250605T130000
DTEND;TZID=America/Los_Angeles:20250605T140000
DTSTAMP:20260419T231054
CREATED:20250401T180407Z
LAST-MODIFIED:20250401T180407Z
UID:10003641-1749128400-1749132000@www.omega-gymnastics.com
SUMMARY:Preschool Open Play
DESCRIPTION:Instructor led play for all skill levels ages 2 – 6 years old. One hour time includes group warm up and open play time. \nA guardian must stay and be on the floor for any child under 3 years of age unless enrolled in our Discovery program. Parent is not an additional cost but all release paperwork is required. \n  \n$12 per student pre-registered  /  $15 per student walk-in \n  \n**Spring Promo – Free class – April 1-10\, 2025.  See Front Desk for credit information**
URL:https://www.omega-gymnastics.com/event/preschool-open-play/2025-06-05/
LOCATION:OMEGA Gymnastics\, 9700 SW Harvest Ct STE 180\, Beaverton\, OR\, 97005\, United States
CATEGORIES:Preschool,Preschool Play
ATTACH;FMTTYPE=image/jpeg:https://www.omega-gymnastics.com/wp-content/uploads/2025/04/PRESCHOOL_PLAY-scaled.jpg
END:VEVENT
END:VCALENDAR