BEGIN:VCALENDAR
VERSION:2.0
PRODID:-//OMEGA Gymnastics - ECPv6.6.1//NONSGML v1.0//EN
CALSCALE:GREGORIAN
METHOD:PUBLISH
X-WR-CALNAME:OMEGA Gymnastics
X-ORIGINAL-URL:https://www.omega-gymnastics.com
X-WR-CALDESC:Events for OMEGA Gymnastics
REFRESH-INTERVAL;VALUE=DURATION:PT1H
X-Robots-Tag:noindex
X-PUBLISHED-TTL:PT1H
BEGIN:VTIMEZONE
TZID:America/Los_Angeles
BEGIN:DAYLIGHT
TZOFFSETFROM:-0800
TZOFFSETTO:-0700
TZNAME:PDT
DTSTART:20250309T100000
END:DAYLIGHT
BEGIN:STANDARD
TZOFFSETFROM:-0700
TZOFFSETTO:-0800
TZNAME:PST
DTSTART:20251102T090000
END:STANDARD
END:VTIMEZONE
BEGIN:VEVENT
DTSTART;TZID=America/Los_Angeles:20250528T130000
DTEND;TZID=America/Los_Angeles:20250528T140000
DTSTAMP:20260420T004954
CREATED:20250401T180407Z
LAST-MODIFIED:20250401T180407Z
UID:10003636-1748437200-1748440800@www.omega-gymnastics.com
SUMMARY:Preschool Open Play
DESCRIPTION:Instructor led play for all skill levels ages 2 – 6 years old. One hour time includes group warm up and open play time. \nA guardian must stay and be on the floor for any child under 3 years of age unless enrolled in our Discovery program. Parent is not an additional cost but all release paperwork is required. \n  \n$12 per student pre-registered  /  $15 per student walk-in \n  \n**Spring Promo – Free class – April 1-10\, 2025.  See Front Desk for credit information**
URL:https://www.omega-gymnastics.com/event/preschool-open-play/2025-05-28/
LOCATION:OMEGA Gymnastics\, 9700 SW Harvest Ct STE 180\, Beaverton\, OR\, 97005\, United States
CATEGORIES:Preschool,Preschool Play
ATTACH;FMTTYPE=image/jpeg:https://www.omega-gymnastics.com/wp-content/uploads/2025/04/PRESCHOOL_PLAY-scaled.jpg
END:VEVENT
END:VCALENDAR