BEGIN:VCALENDAR
VERSION:2.0
PRODID:-//OMEGA Gymnastics - ECPv6.6.1//NONSGML v1.0//EN
CALSCALE:GREGORIAN
METHOD:PUBLISH
X-ORIGINAL-URL:https://www.omega-gymnastics.com
X-WR-CALDESC:Events for OMEGA Gymnastics
REFRESH-INTERVAL;VALUE=DURATION:PT1H
X-Robots-Tag:noindex
X-PUBLISHED-TTL:PT1H
BEGIN:VTIMEZONE
TZID:America/Los_Angeles
BEGIN:DAYLIGHT
TZOFFSETFROM:-0800
TZOFFSETTO:-0700
TZNAME:PDT
DTSTART:20250309T100000
END:DAYLIGHT
BEGIN:STANDARD
TZOFFSETFROM:-0700
TZOFFSETTO:-0800
TZNAME:PST
DTSTART:20251102T090000
END:STANDARD
END:VTIMEZONE
BEGIN:VEVENT
DTSTART;TZID=America/Los_Angeles:20250430T110000
DTEND;TZID=America/Los_Angeles:20250430T140000
DTSTAMP:20260420T005111
CREATED:20250421T231052Z
LAST-MODIFIED:20250421T231052Z
UID:10003646-1746010800-1746021600@www.omega-gymnastics.com
SUMMARY:Preschool Open House
DESCRIPTION:Discovery Preschool Open House \nAre you ready to check out OMEGA’s Discovery Preschool for your incoming preschooler?  Come tour our preschool classroom and meet our teachers at our Discovery Preschool Open House!  Pre-registration is encouraged.  If you miss this opportunity\, call or email to request a private tour.  Registration open for the 2025-2026 School Year.
URL:https://www.omega-gymnastics.com/event/preschool-open-house-8/
LOCATION:OMEGA Gymnastics\, 9700 SW Harvest Ct STE 180\, Beaverton\, OR\, 97005\, United States
CATEGORIES:Preschool
ATTACH;FMTTYPE=image/png:https://www.omega-gymnastics.com/wp-content/uploads/2024/09/DISCOVERY-WEB_SLIDE_EVENT-09262024.png
ORGANIZER;CN="OMEGA Gymnastics":MAILTO:info@omega-gymnastics.com
END:VEVENT
BEGIN:VEVENT
DTSTART;TZID=America/Los_Angeles:20250430T130000
DTEND;TZID=America/Los_Angeles:20250430T140000
DTSTAMP:20260420T005111
CREATED:20250401T180407Z
LAST-MODIFIED:20250401T180407Z
UID:10003621-1746018000-1746021600@www.omega-gymnastics.com
SUMMARY:Preschool Open Play
DESCRIPTION:Instructor led play for all skill levels ages 2 – 6 years old. One hour time includes group warm up and open play time. \nA guardian must stay and be on the floor for any child under 3 years of age unless enrolled in our Discovery program. Parent is not an additional cost but all release paperwork is required. \n  \n$12 per student pre-registered  /  $15 per student walk-in \n  \n**Spring Promo – Free class – April 1-10\, 2025.  See Front Desk for credit information**
URL:https://www.omega-gymnastics.com/event/preschool-open-play/2025-04-30/
LOCATION:OMEGA Gymnastics\, 9700 SW Harvest Ct STE 180\, Beaverton\, OR\, 97005\, United States
CATEGORIES:Preschool,Preschool Play
ATTACH;FMTTYPE=image/jpeg:https://www.omega-gymnastics.com/wp-content/uploads/2025/04/PRESCHOOL_PLAY-scaled.jpg
END:VEVENT
END:VCALENDAR