BEGIN:VCALENDAR
VERSION:2.0
PRODID:-//OMEGA Gymnastics - ECPv6.6.1//NONSGML v1.0//EN
CALSCALE:GREGORIAN
METHOD:PUBLISH
X-WR-CALNAME:OMEGA Gymnastics
X-ORIGINAL-URL:https://www.omega-gymnastics.com
X-WR-CALDESC:Events for OMEGA Gymnastics
REFRESH-INTERVAL;VALUE=DURATION:PT1H
X-Robots-Tag:noindex
X-PUBLISHED-TTL:PT1H
BEGIN:VTIMEZONE
TZID:America/Los_Angeles
BEGIN:DAYLIGHT
TZOFFSETFROM:-0800
TZOFFSETTO:-0700
TZNAME:PDT
DTSTART:20240310T100000
END:DAYLIGHT
BEGIN:STANDARD
TZOFFSETFROM:-0700
TZOFFSETTO:-0800
TZNAME:PST
DTSTART:20241103T090000
END:STANDARD
END:VTIMEZONE
BEGIN:VEVENT
DTSTART;TZID=America/Los_Angeles:20240325T090000
DTEND;TZID=America/Los_Angeles:20240328T120000
DTSTAMP:20260420T215656
CREATED:20240305T181722Z
LAST-MODIFIED:20240410T231021Z
UID:10003505-1711357200-1711627200@www.omega-gymnastics.com
SUMMARY:Spring Break Preschool Camp - Jump into Spring!
DESCRIPTION:Calling all mini gymnasts aged 3-5! \nLooking for a fun and active way for your child to spend their Spring Break? \nLook no further than OMEGA Gymnastics’ Preschool Camp! \n  \nSpring Break Preschool Camp Details:\n\nMonday-Thursday\, March 25 – March 28\, 2024\n9:00am-12:00pm \nCost: $220\n\n CLICK HERE TO REGISTER \n  \n\n\nAge Group: 3-5 years old   •  (must be potty-trained and pre-registered) \nOMEGA offers camps during pre-determined Beaverton School District days off\, Winter Break\, Spring Break\, and Summer Vacation. Our camps are full of fun activities. You may expect Gymnastics Instruction\, Activities\, and Games. \n  \nWhat’s in Store for Your Kids?\nAt OMEGA\, we believe that learning should be enjoyable\, and that’s why our camps are packed with fun activities that your children will love. From engaging gymnastics instruction to thrilling games and group activities\, we’ve got something for every young camper to enjoy. \n  \n\nWhat’s Included:\n\nStructured gymnastics time and circuits\nSpecial arts and crafts\nAcademic and classroom play\nFun and engaging activities with the “Jump into Spring” theme\n\n\n  \nPack for Adventure:\n\nTo keep the excitement going\, we recommend packing a nutritious snack along with a water bottle to keep your child refreshed and energized throughout the day.\n\n  \nRegistration Made Easy:\n\nRegistration is available on-line or by contacting the Front Office via email or phone 503.466.4872.\n\n  \n\n\n\n\nCancellation Policy \n\nNo-shows and absences will not receive credit. For multi-day camps\, missed days will not receive credit.\n1 Week notice required to receive a 100% tuition credited to your OMEGA account.  No refunds.\n\n\n\n \n \n\n\nAt Camps at OMEGA\, we are committed to providing a safe\, enjoyable\, and educational environment for your children. With a perfect blend of gymnastics instruction\, thrilling activities\, and exciting games\, your kids will create lasting memories and make new friends. \nJoin us for the next camp session and give your children an unforgettable experience at OMEGA Gymnastics! \n\n\n  \n CLICK HERE TO REGISTER \n  \nSEE ALL OUR EVENTS \n\n\n\n 
URL:https://www.omega-gymnastics.com/event/spring-break-preschool-camp/
LOCATION:OMEGA Gymnastics\, 9700 SW Harvest Ct STE 180\, Beaverton\, OR\, 97005\, United States
CATEGORIES:Preschool
ATTACH;FMTTYPE=image/png:https://www.omega-gymnastics.com/wp-content/uploads/2024/03/Spring-Break-Preschool-Camp.png
ORGANIZER;CN="OMEGA Gymnastics":MAILTO:info@omega-gymnastics.com
END:VEVENT
END:VCALENDAR