BEGIN:VCALENDAR
VERSION:2.0
PRODID:-//OMEGA Gymnastics - ECPv6.6.1//NONSGML v1.0//EN
CALSCALE:GREGORIAN
METHOD:PUBLISH
X-WR-CALNAME:OMEGA Gymnastics
X-ORIGINAL-URL:https://www.omega-gymnastics.com
X-WR-CALDESC:Events for OMEGA Gymnastics
REFRESH-INTERVAL;VALUE=DURATION:PT1H
X-Robots-Tag:noindex
X-PUBLISHED-TTL:PT1H
BEGIN:VTIMEZONE
TZID:America/Los_Angeles
BEGIN:DAYLIGHT
TZOFFSETFROM:-0800
TZOFFSETTO:-0700
TZNAME:PDT
DTSTART:20250309T100000
END:DAYLIGHT
BEGIN:STANDARD
TZOFFSETFROM:-0700
TZOFFSETTO:-0800
TZNAME:PST
DTSTART:20251102T090000
END:STANDARD
END:VTIMEZONE
BEGIN:VEVENT
DTSTART;TZID=America/Los_Angeles:20250312T110000
DTEND;TZID=America/Los_Angeles:20250312T140000
DTSTAMP:20260420T021350
CREATED:20250306T184553Z
LAST-MODIFIED:20250306T184553Z
UID:10003601-1741777200-1741788000@www.omega-gymnastics.com
SUMMARY:Preschool Open House
DESCRIPTION:Discovery Preschool Open House \nAre you ready to check out OMEGA’s Discovery Preschool for your incoming preschooler?  Come tour our preschool classroom and meet our teachers at our Discovery Preschool Open House!  Pre-registration is encouraged.  If you miss this opportunity\, call or email to request a private tour.
URL:https://www.omega-gymnastics.com/event/preschool-open-house-7/
LOCATION:OMEGA Gymnastics\, 9700 SW Harvest Ct STE 180\, Beaverton\, OR\, 97005\, United States
CATEGORIES:Preschool
ATTACH;FMTTYPE=image/png:https://www.omega-gymnastics.com/wp-content/uploads/2024/09/DISCOVERY-WEB_SLIDE_EVENT-09262024.png
ORGANIZER;CN="OMEGA Gymnastics":MAILTO:info@omega-gymnastics.com
END:VEVENT
END:VCALENDAR