BEGIN:VCALENDAR
VERSION:2.0
PRODID:-//OMEGA Gymnastics - ECPv6.6.1//NONSGML v1.0//EN
CALSCALE:GREGORIAN
METHOD:PUBLISH
X-WR-CALNAME:OMEGA Gymnastics
X-ORIGINAL-URL:https://www.omega-gymnastics.com
X-WR-CALDESC:Events for OMEGA Gymnastics
REFRESH-INTERVAL;VALUE=DURATION:PT1H
X-Robots-Tag:noindex
X-PUBLISHED-TTL:PT1H
BEGIN:VTIMEZONE
TZID:America/Los_Angeles
BEGIN:DAYLIGHT
TZOFFSETFROM:-0800
TZOFFSETTO:-0700
TZNAME:PDT
DTSTART:20240310T100000
END:DAYLIGHT
BEGIN:STANDARD
TZOFFSETFROM:-0700
TZOFFSETTO:-0800
TZNAME:PST
DTSTART:20241103T090000
END:STANDARD
END:VTIMEZONE
BEGIN:VEVENT
DTSTART;TZID=America/Los_Angeles:20241202T120000
DTEND;TZID=America/Los_Angeles:20241202T140000
DTSTAMP:20260420T063917
CREATED:20241126T185022Z
LAST-MODIFIED:20241126T185022Z
UID:10003576-1733140800-1733148000@www.omega-gymnastics.com
SUMMARY:Drop-N-Shop
DESCRIPTION:Do you need to have a little alone time to get holiday shopping done?   These 2-hour play session are running Monday-Thursday the first three weeks in December 2024.  Enroll your child in as many days as you need: \nStudents will have classroom play and supervised gym play during this time. \nDesigned for children ages 3.5-6 years old.  *All children must be independent in the bathroom. \nPlan to pack a light lunch for your child (no nuts\, please). \nStudents should dress appropriately for playing on the gym equipment and hair pulled back out of their face and no jewelry. \nHosted by OMEGA’s Discovery Preschool Program
URL:https://www.omega-gymnastics.com/event/drop-n-shop/2024-12-02/
LOCATION:OR
CATEGORIES:Preschool
ATTACH;FMTTYPE=image/png:https://www.omega-gymnastics.com/wp-content/uploads/2024/11/DROP-N-SHOP-WEB-EVENT-1.png
END:VEVENT
BEGIN:VEVENT
DTSTART;TZID=America/Los_Angeles:20241203T120000
DTEND;TZID=America/Los_Angeles:20241203T140000
DTSTAMP:20260420T063917
CREATED:20241126T185022Z
LAST-MODIFIED:20241126T185022Z
UID:10003577-1733227200-1733234400@www.omega-gymnastics.com
SUMMARY:Drop-N-Shop
DESCRIPTION:Do you need to have a little alone time to get holiday shopping done?   These 2-hour play session are running Monday-Thursday the first three weeks in December 2024.  Enroll your child in as many days as you need: \nStudents will have classroom play and supervised gym play during this time. \nDesigned for children ages 3.5-6 years old.  *All children must be independent in the bathroom. \nPlan to pack a light lunch for your child (no nuts\, please). \nStudents should dress appropriately for playing on the gym equipment and hair pulled back out of their face and no jewelry. \nHosted by OMEGA’s Discovery Preschool Program
URL:https://www.omega-gymnastics.com/event/drop-n-shop/2024-12-03/
LOCATION:OR
CATEGORIES:Preschool
ATTACH;FMTTYPE=image/png:https://www.omega-gymnastics.com/wp-content/uploads/2024/11/DROP-N-SHOP-WEB-EVENT-1.png
END:VEVENT
BEGIN:VEVENT
DTSTART;TZID=America/Los_Angeles:20241204T120000
DTEND;TZID=America/Los_Angeles:20241204T140000
DTSTAMP:20260420T063917
CREATED:20241126T185022Z
LAST-MODIFIED:20241126T185022Z
UID:10003578-1733313600-1733320800@www.omega-gymnastics.com
SUMMARY:Drop-N-Shop
DESCRIPTION:Do you need to have a little alone time to get holiday shopping done?   These 2-hour play session are running Monday-Thursday the first three weeks in December 2024.  Enroll your child in as many days as you need: \nStudents will have classroom play and supervised gym play during this time. \nDesigned for children ages 3.5-6 years old.  *All children must be independent in the bathroom. \nPlan to pack a light lunch for your child (no nuts\, please). \nStudents should dress appropriately for playing on the gym equipment and hair pulled back out of their face and no jewelry. \nHosted by OMEGA’s Discovery Preschool Program
URL:https://www.omega-gymnastics.com/event/drop-n-shop/2024-12-04/
LOCATION:OR
CATEGORIES:Preschool
ATTACH;FMTTYPE=image/png:https://www.omega-gymnastics.com/wp-content/uploads/2024/11/DROP-N-SHOP-WEB-EVENT-1.png
END:VEVENT
BEGIN:VEVENT
DTSTART;TZID=America/Los_Angeles:20241205T120000
DTEND;TZID=America/Los_Angeles:20241205T140000
DTSTAMP:20260420T063917
CREATED:20241126T185022Z
LAST-MODIFIED:20241126T185022Z
UID:10003579-1733400000-1733407200@www.omega-gymnastics.com
SUMMARY:Drop-N-Shop
DESCRIPTION:Do you need to have a little alone time to get holiday shopping done?   These 2-hour play session are running Monday-Thursday the first three weeks in December 2024.  Enroll your child in as many days as you need: \nStudents will have classroom play and supervised gym play during this time. \nDesigned for children ages 3.5-6 years old.  *All children must be independent in the bathroom. \nPlan to pack a light lunch for your child (no nuts\, please). \nStudents should dress appropriately for playing on the gym equipment and hair pulled back out of their face and no jewelry. \nHosted by OMEGA’s Discovery Preschool Program
URL:https://www.omega-gymnastics.com/event/drop-n-shop/2024-12-05/
LOCATION:OR
CATEGORIES:Preschool
ATTACH;FMTTYPE=image/png:https://www.omega-gymnastics.com/wp-content/uploads/2024/11/DROP-N-SHOP-WEB-EVENT-1.png
END:VEVENT
BEGIN:VEVENT
DTSTART;TZID=America/Los_Angeles:20241209T120000
DTEND;TZID=America/Los_Angeles:20241209T140000
DTSTAMP:20260420T063917
CREATED:20241126T185641Z
LAST-MODIFIED:20241126T185910Z
UID:10003584-1733745600-1733752800@www.omega-gymnastics.com
SUMMARY:Drop-N-Shop
DESCRIPTION:Do you need to have a little alone time to get holiday shopping done?   These 2-hour play session are running Monday-Thursday the first three weeks in December 2024.  Enroll your child in as many days as you need: \nStudents will have classroom play and supervised gym play during this time. \nDesigned for children ages 3.5-6 years old.  *All children must be independent in the bathroom. \nPlan to pack a light lunch for your child (no nuts\, please). \nStudents should dress appropriately for playing on the gym equipment and hair pulled back out of their face and no jewelry. \nHosted by OMEGA’s Discovery Preschool Program
URL:https://www.omega-gymnastics.com/event/drop-n-shop-2/2024-12-09/
LOCATION:OR
CATEGORIES:Preschool
ATTACH;FMTTYPE=image/png:https://www.omega-gymnastics.com/wp-content/uploads/2024/11/DROP-N-SHOP-WEB-EVENT-1.png
END:VEVENT
BEGIN:VEVENT
DTSTART;TZID=America/Los_Angeles:20241210T120000
DTEND;TZID=America/Los_Angeles:20241210T140000
DTSTAMP:20260420T063917
CREATED:20241126T185641Z
LAST-MODIFIED:20241126T185910Z
UID:10003585-1733832000-1733839200@www.omega-gymnastics.com
SUMMARY:Drop-N-Shop
DESCRIPTION:Do you need to have a little alone time to get holiday shopping done?   These 2-hour play session are running Monday-Thursday the first three weeks in December 2024.  Enroll your child in as many days as you need: \nStudents will have classroom play and supervised gym play during this time. \nDesigned for children ages 3.5-6 years old.  *All children must be independent in the bathroom. \nPlan to pack a light lunch for your child (no nuts\, please). \nStudents should dress appropriately for playing on the gym equipment and hair pulled back out of their face and no jewelry. \nHosted by OMEGA’s Discovery Preschool Program
URL:https://www.omega-gymnastics.com/event/drop-n-shop-2/2024-12-10/
LOCATION:OR
CATEGORIES:Preschool
ATTACH;FMTTYPE=image/png:https://www.omega-gymnastics.com/wp-content/uploads/2024/11/DROP-N-SHOP-WEB-EVENT-1.png
END:VEVENT
BEGIN:VEVENT
DTSTART;TZID=America/Los_Angeles:20241211T120000
DTEND;TZID=America/Los_Angeles:20241211T140000
DTSTAMP:20260420T063917
CREATED:20241126T185641Z
LAST-MODIFIED:20241126T185910Z
UID:10003586-1733918400-1733925600@www.omega-gymnastics.com
SUMMARY:Drop-N-Shop
DESCRIPTION:Do you need to have a little alone time to get holiday shopping done?   These 2-hour play session are running Monday-Thursday the first three weeks in December 2024.  Enroll your child in as many days as you need: \nStudents will have classroom play and supervised gym play during this time. \nDesigned for children ages 3.5-6 years old.  *All children must be independent in the bathroom. \nPlan to pack a light lunch for your child (no nuts\, please). \nStudents should dress appropriately for playing on the gym equipment and hair pulled back out of their face and no jewelry. \nHosted by OMEGA’s Discovery Preschool Program
URL:https://www.omega-gymnastics.com/event/drop-n-shop-2/2024-12-11/
LOCATION:OR
CATEGORIES:Preschool
ATTACH;FMTTYPE=image/png:https://www.omega-gymnastics.com/wp-content/uploads/2024/11/DROP-N-SHOP-WEB-EVENT-1.png
END:VEVENT
BEGIN:VEVENT
DTSTART;TZID=America/Los_Angeles:20241212T120000
DTEND;TZID=America/Los_Angeles:20241212T140000
DTSTAMP:20260420T063917
CREATED:20241126T185641Z
LAST-MODIFIED:20241126T185910Z
UID:10003587-1734004800-1734012000@www.omega-gymnastics.com
SUMMARY:Drop-N-Shop
DESCRIPTION:Do you need to have a little alone time to get holiday shopping done?   These 2-hour play session are running Monday-Thursday the first three weeks in December 2024.  Enroll your child in as many days as you need: \nStudents will have classroom play and supervised gym play during this time. \nDesigned for children ages 3.5-6 years old.  *All children must be independent in the bathroom. \nPlan to pack a light lunch for your child (no nuts\, please). \nStudents should dress appropriately for playing on the gym equipment and hair pulled back out of their face and no jewelry. \nHosted by OMEGA’s Discovery Preschool Program
URL:https://www.omega-gymnastics.com/event/drop-n-shop-2/2024-12-12/
LOCATION:OR
CATEGORIES:Preschool
ATTACH;FMTTYPE=image/png:https://www.omega-gymnastics.com/wp-content/uploads/2024/11/DROP-N-SHOP-WEB-EVENT-1.png
END:VEVENT
BEGIN:VEVENT
DTSTART;TZID=America/Los_Angeles:20241216T120000
DTEND;TZID=America/Los_Angeles:20241216T140000
DTSTAMP:20260420T063917
CREATED:20241126T190125Z
LAST-MODIFIED:20241126T190125Z
UID:10003592-1734350400-1734357600@www.omega-gymnastics.com
SUMMARY:Drop-N-Shop
DESCRIPTION:Do you need to have a little alone time to get holiday shopping done?   These 2-hour play session are running Monday-Thursday the first three weeks in December 2024.  Enroll your child in as many days as you need: \nStudents will have classroom play and supervised gym play during this time. \nDesigned for children ages 3.5-6 years old.  *All children must be independent in the bathroom. \nPlan to pack a light lunch for your child (no nuts\, please). \nStudents should dress appropriately for playing on the gym equipment and hair pulled back out of their face and no jewelry. \nHosted by OMEGA’s Discovery Preschool Program
URL:https://www.omega-gymnastics.com/event/drop-n-shop-3/2024-12-16/
LOCATION:OR
CATEGORIES:Preschool
ATTACH;FMTTYPE=image/png:https://www.omega-gymnastics.com/wp-content/uploads/2024/11/DROP-N-SHOP-WEB-EVENT-1.png
END:VEVENT
BEGIN:VEVENT
DTSTART;TZID=America/Los_Angeles:20241217T120000
DTEND;TZID=America/Los_Angeles:20241217T140000
DTSTAMP:20260420T063917
CREATED:20241126T190125Z
LAST-MODIFIED:20241126T190125Z
UID:10003593-1734436800-1734444000@www.omega-gymnastics.com
SUMMARY:Drop-N-Shop
DESCRIPTION:Do you need to have a little alone time to get holiday shopping done?   These 2-hour play session are running Monday-Thursday the first three weeks in December 2024.  Enroll your child in as many days as you need: \nStudents will have classroom play and supervised gym play during this time. \nDesigned for children ages 3.5-6 years old.  *All children must be independent in the bathroom. \nPlan to pack a light lunch for your child (no nuts\, please). \nStudents should dress appropriately for playing on the gym equipment and hair pulled back out of their face and no jewelry. \nHosted by OMEGA’s Discovery Preschool Program
URL:https://www.omega-gymnastics.com/event/drop-n-shop-3/2024-12-17/
LOCATION:OR
CATEGORIES:Preschool
ATTACH;FMTTYPE=image/png:https://www.omega-gymnastics.com/wp-content/uploads/2024/11/DROP-N-SHOP-WEB-EVENT-1.png
END:VEVENT
BEGIN:VEVENT
DTSTART;TZID=America/Los_Angeles:20241218T120000
DTEND;TZID=America/Los_Angeles:20241218T140000
DTSTAMP:20260420T063917
CREATED:20241126T190125Z
LAST-MODIFIED:20241126T190125Z
UID:10003594-1734523200-1734530400@www.omega-gymnastics.com
SUMMARY:Drop-N-Shop
DESCRIPTION:Do you need to have a little alone time to get holiday shopping done?   These 2-hour play session are running Monday-Thursday the first three weeks in December 2024.  Enroll your child in as many days as you need: \nStudents will have classroom play and supervised gym play during this time. \nDesigned for children ages 3.5-6 years old.  *All children must be independent in the bathroom. \nPlan to pack a light lunch for your child (no nuts\, please). \nStudents should dress appropriately for playing on the gym equipment and hair pulled back out of their face and no jewelry. \nHosted by OMEGA’s Discovery Preschool Program
URL:https://www.omega-gymnastics.com/event/drop-n-shop-3/2024-12-18/
LOCATION:OR
CATEGORIES:Preschool
ATTACH;FMTTYPE=image/png:https://www.omega-gymnastics.com/wp-content/uploads/2024/11/DROP-N-SHOP-WEB-EVENT-1.png
END:VEVENT
BEGIN:VEVENT
DTSTART;TZID=America/Los_Angeles:20241219T120000
DTEND;TZID=America/Los_Angeles:20241219T140000
DTSTAMP:20260420T063917
CREATED:20241126T190125Z
LAST-MODIFIED:20241126T190125Z
UID:10003595-1734609600-1734616800@www.omega-gymnastics.com
SUMMARY:Drop-N-Shop
DESCRIPTION:Do you need to have a little alone time to get holiday shopping done?   These 2-hour play session are running Monday-Thursday the first three weeks in December 2024.  Enroll your child in as many days as you need: \nStudents will have classroom play and supervised gym play during this time. \nDesigned for children ages 3.5-6 years old.  *All children must be independent in the bathroom. \nPlan to pack a light lunch for your child (no nuts\, please). \nStudents should dress appropriately for playing on the gym equipment and hair pulled back out of their face and no jewelry. \nHosted by OMEGA’s Discovery Preschool Program
URL:https://www.omega-gymnastics.com/event/drop-n-shop-3/2024-12-19/
LOCATION:OR
CATEGORIES:Preschool
ATTACH;FMTTYPE=image/png:https://www.omega-gymnastics.com/wp-content/uploads/2024/11/DROP-N-SHOP-WEB-EVENT-1.png
END:VEVENT
END:VCALENDAR