BEGIN:VCALENDAR
VERSION:2.0
PRODID:-//OMEGA Gymnastics - ECPv6.6.1//NONSGML v1.0//EN
CALSCALE:GREGORIAN
METHOD:PUBLISH
X-WR-CALNAME:OMEGA Gymnastics
X-ORIGINAL-URL:https://www.omega-gymnastics.com
X-WR-CALDESC:Events for OMEGA Gymnastics
REFRESH-INTERVAL;VALUE=DURATION:PT1H
X-Robots-Tag:noindex
X-PUBLISHED-TTL:PT1H
BEGIN:VTIMEZONE
TZID:America/Los_Angeles
BEGIN:DAYLIGHT
TZOFFSETFROM:-0800
TZOFFSETTO:-0700
TZNAME:PDT
DTSTART:20240310T100000
END:DAYLIGHT
BEGIN:STANDARD
TZOFFSETFROM:-0700
TZOFFSETTO:-0800
TZNAME:PST
DTSTART:20241103T090000
END:STANDARD
END:VTIMEZONE
BEGIN:VEVENT
DTSTART;VALUE=DATE:20240729
DTEND;VALUE=DATE:20240803
DTSTAMP:20260420T122351
CREATED:20240425T193634Z
LAST-MODIFIED:20240425T194511Z
UID:10003516-1722211200-1722643199@www.omega-gymnastics.com
SUMMARY:Preschool Summer Camp: Week 6 - Summer Olympics
DESCRIPTION:Preschool Camp Week 6: Summer Olympics\nReady for a fun and enriching preschool camp?   Welcome to OMEGA’s Preschool Camps where preschool and Pre-K children ages 3 ½ to 5 enjoy mornings full of gymnastics fun.  With a perfect blend of gymnastics instruction\, thrilling activities\, and exciting games\, your children will create lasting memories and make new friends.  Preschool Camp is for children 3 ½ to 5 and independent in the bathroom. \nJoin us for the next camp session and give your children an unforgettable experience at OMEGA Gymnastics!   See our Discovery Preschool page for more details and to register. \n\nCLICK HERE TO REGISTER \nSEE ALL OUR EVENTS
URL:https://www.omega-gymnastics.com/event/preschool-summer-camp-week-6-summer-olympics/
LOCATION:OMEGA Gymnastics\, 9700 SW Harvest Ct STE 180\, Beaverton\, OR\, 97005\, United States
CATEGORIES:Preschool
ATTACH;FMTTYPE=image/png:https://www.omega-gymnastics.com/wp-content/uploads/2024/04/olympics-to-cut.png
END:VEVENT
BEGIN:VEVENT
DTSTART;TZID=America/Los_Angeles:20240807T100000
DTEND;TZID=America/Los_Angeles:20240807T120000
DTSTAMP:20260420T122351
CREATED:20240716T230156Z
LAST-MODIFIED:20240716T230156Z
UID:10003518-1723024800-1723032000@www.omega-gymnastics.com
SUMMARY:Preschool Open House
DESCRIPTION:Discovery Preschool Open House \nCome tour our preschool classroom and meet our teachers at our Discovery Preschool Open House!  Pre-registration is encouraged.  If you miss this opportunity\, call or email to request a private tour.
URL:https://www.omega-gymnastics.com/event/preschool-open-house-2/
LOCATION:OMEGA Gymnastics\, 9700 SW Harvest Ct STE 180\, Beaverton\, OR\, 97005\, United States
CATEGORIES:Preschool
ATTACH;FMTTYPE=image/png:https://www.omega-gymnastics.com/wp-content/uploads/2024/07/DISCOVERY-PRESCHOOL-062024-e1721170725930.png
ORGANIZER;CN="OMEGA Gymnastics":MAILTO:info@omega-gymnastics.com
END:VEVENT
END:VCALENDAR