BEGIN:VCALENDAR
VERSION:2.0
PRODID:-//OMEGA Gymnastics - ECPv6.6.1//NONSGML v1.0//EN
CALSCALE:GREGORIAN
METHOD:PUBLISH
X-ORIGINAL-URL:https://www.omega-gymnastics.com
X-WR-CALDESC:Events for OMEGA Gymnastics
REFRESH-INTERVAL;VALUE=DURATION:PT1H
X-Robots-Tag:noindex
X-PUBLISHED-TTL:PT1H
BEGIN:VTIMEZONE
TZID:America/Los_Angeles
BEGIN:DAYLIGHT
TZOFFSETFROM:-0800
TZOFFSETTO:-0700
TZNAME:PDT
DTSTART:20240310T100000
END:DAYLIGHT
BEGIN:STANDARD
TZOFFSETFROM:-0700
TZOFFSETTO:-0800
TZNAME:PST
DTSTART:20241103T090000
END:STANDARD
END:VTIMEZONE
BEGIN:VEVENT
DTSTART;VALUE=DATE:20240701
DTEND;VALUE=DATE:20240704
DTSTAMP:20260420T140437
CREATED:20240425T185737Z
LAST-MODIFIED:20240425T192514Z
UID:10003513-1719792000-1720051199@www.omega-gymnastics.com
SUMMARY:Preschool Summer Camp: Week 2 - Stars and Stripes
DESCRIPTION:Preschool Camp Week 2: Stars and Stripes\nReady for a fun and enriching preschool camp?   Welcome to OMEGA’s Preschool Camps where preschool and Pre-K children ages 3 ½ to 5 enjoy mornings full of gymnastics fun.  With a perfect blend of gymnastics instruction\, thrilling activities\, and exciting games\, your children will create lasting memories and make new friends.  Preschool Camp is for children 3 ½ to 5 and independent in the bathroom. \nJoin us for the next camp session and give your children an unforgettable experience at OMEGA Gymnastics!   See our Discovery Preschool page for more details and to register. \n\nCLICK HERE TO REGISTER \nSEE ALL OUR EVENTS
URL:https://www.omega-gymnastics.com/event/preschool-summer-camp-week-2-stars-and-stripes/
LOCATION:OMEGA Gymnastics\, 9700 SW Harvest Ct STE 180\, Beaverton\, OR\, 97005\, United States
CATEGORIES:Preschool
ATTACH;FMTTYPE=image/png:https://www.omega-gymnastics.com/wp-content/uploads/2024/04/stars_stripes.png
END:VEVENT
BEGIN:VEVENT
DTSTART;VALUE=DATE:20240708
DTEND;VALUE=DATE:20240713
DTSTAMP:20260420T140437
CREATED:20240425T184912Z
LAST-MODIFIED:20240425T185207Z
UID:10003512-1720396800-1720828799@www.omega-gymnastics.com
SUMMARY:Preschool Summer Camp: Week 3 - Pirates and Mermaids
DESCRIPTION:Preschool Camp Week 3: Pirates and Mermaids\nReady for a fun and enriching preschool camp?   Welcome to OMEGA’s Preschool Camps where preschool and Pre-K children ages 3 ½ to 5 enjoy mornings full of gymnastics fun.  With a perfect blend of gymnastics instruction\, thrilling activities\, and exciting games\, your children will create lasting memories and make new friends.  Preschool Camp is for children 3 ½ to 5 and independent in the bathroom. \nJoin us for the next camp session and give your children an unforgettable experience at OMEGA Gymnastics!   See our Discovery Preschool page for more details and to register. \n\nCLICK HERE TO REGISTER \nSEE ALL OUR EVENTS
URL:https://www.omega-gymnastics.com/event/preschool-summer-camp-week-3-pirates-and-mermaids/
LOCATION:OMEGA Gymnastics\, 9700 SW Harvest Ct STE 180\, Beaverton\, OR\, 97005\, United States
CATEGORIES:Preschool
ATTACH;FMTTYPE=image/png:https://www.omega-gymnastics.com/wp-content/uploads/2024/04/pirates-to-cut.png
END:VEVENT
BEGIN:VEVENT
DTSTART;VALUE=DATE:20240715
DTEND;VALUE=DATE:20240720
DTSTAMP:20260420T140437
CREATED:20240425T192342Z
LAST-MODIFIED:20240425T192342Z
UID:10003514-1721001600-1721433599@www.omega-gymnastics.com
SUMMARY:Preschool Summer Camp: Week 4 - Let's Go Camping!
DESCRIPTION:Preschool Camp Week 4: Let’s Go Camping!\nReady for a fun and enriching preschool camp?   Welcome to OMEGA’s Preschool Camps where preschool and Pre-K children ages 3 ½ to 5 enjoy mornings full of gymnastics fun.  With a perfect blend of gymnastics instruction\, thrilling activities\, and exciting games\, your children will create lasting memories and make new friends.  Preschool Camp is for children 3 ½ to 5 and independent in the bathroom. \nJoin us for the next camp session and give your children an unforgettable experience at OMEGA Gymnastics!   See our Discovery Preschool page for more details and to register. \n\nCLICK HERE TO REGISTER \nSEE ALL OUR EVENTS
URL:https://www.omega-gymnastics.com/event/preschool-summer-camp-week-4-lets-go-camping/
LOCATION:OMEGA Gymnastics\, 9700 SW Harvest Ct STE 180\, Beaverton\, OR\, 97005\, United States
CATEGORIES:Preschool
ATTACH;FMTTYPE=image/png:https://www.omega-gymnastics.com/wp-content/uploads/2024/04/camping.png
END:VEVENT
BEGIN:VEVENT
DTSTART;VALUE=DATE:20240722
DTEND;VALUE=DATE:20240727
DTSTAMP:20260420T140437
CREATED:20240425T193130Z
LAST-MODIFIED:20240425T193324Z
UID:10003515-1721606400-1722038399@www.omega-gymnastics.com
SUMMARY:Preschool Summer Camp: Week 5 - Space Expedition
DESCRIPTION:Preschool Camp Week 5: Space Expedition\nReady for a fun and enriching preschool camp?   Welcome to OMEGA’s Preschool Camps where preschool and Pre-K children ages 3 ½ to 5 enjoy mornings full of gymnastics fun.  With a perfect blend of gymnastics instruction\, thrilling activities\, and exciting games\, your children will create lasting memories and make new friends.  Preschool Camp is for children 3 ½ to 5 and independent in the bathroom. \nJoin us for the next camp session and give your children an unforgettable experience at OMEGA Gymnastics!   See our Discovery Preschool page for more details and to register. \n\nCLICK HERE TO REGISTER \nSEE ALL OUR EVENTS
URL:https://www.omega-gymnastics.com/event/preschool-summer-camp-week-5-space-expedition/
LOCATION:OMEGA Gymnastics\, 9700 SW Harvest Ct STE 180\, Beaverton\, OR\, 97005\, United States
CATEGORIES:Preschool
ATTACH;FMTTYPE=image/png:https://www.omega-gymnastics.com/wp-content/uploads/2024/04/space_expo-to-cut.png
END:VEVENT
BEGIN:VEVENT
DTSTART;VALUE=DATE:20240729
DTEND;VALUE=DATE:20240803
DTSTAMP:20260420T140437
CREATED:20240425T193634Z
LAST-MODIFIED:20240425T194511Z
UID:10003516-1722211200-1722643199@www.omega-gymnastics.com
SUMMARY:Preschool Summer Camp: Week 6 - Summer Olympics
DESCRIPTION:Preschool Camp Week 6: Summer Olympics\nReady for a fun and enriching preschool camp?   Welcome to OMEGA’s Preschool Camps where preschool and Pre-K children ages 3 ½ to 5 enjoy mornings full of gymnastics fun.  With a perfect blend of gymnastics instruction\, thrilling activities\, and exciting games\, your children will create lasting memories and make new friends.  Preschool Camp is for children 3 ½ to 5 and independent in the bathroom. \nJoin us for the next camp session and give your children an unforgettable experience at OMEGA Gymnastics!   See our Discovery Preschool page for more details and to register. \n\nCLICK HERE TO REGISTER \nSEE ALL OUR EVENTS
URL:https://www.omega-gymnastics.com/event/preschool-summer-camp-week-6-summer-olympics/
LOCATION:OMEGA Gymnastics\, 9700 SW Harvest Ct STE 180\, Beaverton\, OR\, 97005\, United States
CATEGORIES:Preschool
ATTACH;FMTTYPE=image/png:https://www.omega-gymnastics.com/wp-content/uploads/2024/04/olympics-to-cut.png
END:VEVENT
END:VCALENDAR