BEGIN:VCALENDAR
VERSION:2.0
PRODID:-//OMEGA Gymnastics - ECPv6.6.1//NONSGML v1.0//EN
CALSCALE:GREGORIAN
METHOD:PUBLISH
X-ORIGINAL-URL:https://www.omega-gymnastics.com
X-WR-CALDESC:Events for OMEGA Gymnastics
REFRESH-INTERVAL;VALUE=DURATION:PT1H
X-Robots-Tag:noindex
X-PUBLISHED-TTL:PT1H
BEGIN:VTIMEZONE
TZID:America/Los_Angeles
BEGIN:DAYLIGHT
TZOFFSETFROM:-0800
TZOFFSETTO:-0700
TZNAME:PDT
DTSTART:20250309T100000
END:DAYLIGHT
BEGIN:STANDARD
TZOFFSETFROM:-0700
TZOFFSETTO:-0800
TZNAME:PST
DTSTART:20251102T090000
END:STANDARD
END:VTIMEZONE
BEGIN:VEVENT
DTSTART;TZID=America/Los_Angeles:20251025T170000
DTEND;TZID=America/Los_Angeles:20251025T210000
DTSTAMP:20260423T233309
CREATED:20250909T000832Z
LAST-MODIFIED:20250909T000832Z
UID:10003689-1761411600-1761426000@www.omega-gymnastics.com
SUMMARY:Halloween GE Extravaganza
DESCRIPTION:Looking for a spooktacular evening your child will never forget?OMEGA has you covered with our Parent’s Great Escape Extravaganza – Halloween Edition! \nKids ages 5 to 12 are invited to enjoy an extended night of thrills\, games\, and festive fun at the gym\, while parents take a well-earned break for dinner\, relaxation\, or other plans. \nThis special event features extra activities\, a longer playtime\, and a screening of the movie Coco – perfect for the season! \n✨ Don’t miss out on this fang-tastic opportunity for your child to make memories and enjoy a night of excitement\, while you enjoy some quality time of your own. \n Pre-registration is required.Register online or contact our Front Office via email or phone at 503.466.4872. \n CLICK HERE TO REGISTER \n  \nSEE ALL OUR EVENTS \n  \n\n\n\n 
URL:https://www.omega-gymnastics.com/event/halloween-ge-extravaganza-2/
CATEGORIES:Parent Great Escapes
ATTACH;FMTTYPE=image/png:https://www.omega-gymnastics.com/wp-content/uploads/2024/09/HALLOWEEN_PGE_EXTRAVAGANZA.png
ORGANIZER;CN="OMEGA Gymnastics":MAILTO:info@omega-gymnastics.com
END:VEVENT
END:VCALENDAR