BEGIN:VCALENDAR
VERSION:2.0
PRODID:-//OMEGA Gymnastics - ECPv6.6.1//NONSGML v1.0//EN
CALSCALE:GREGORIAN
METHOD:PUBLISH
X-ORIGINAL-URL:https://www.omega-gymnastics.com
X-WR-CALDESC:Events for OMEGA Gymnastics
REFRESH-INTERVAL;VALUE=DURATION:PT1H
X-Robots-Tag:noindex
X-PUBLISHED-TTL:PT1H
BEGIN:VTIMEZONE
TZID:America/Los_Angeles
BEGIN:DAYLIGHT
TZOFFSETFROM:-0800
TZOFFSETTO:-0700
TZNAME:PDT
DTSTART:20250309T100000
END:DAYLIGHT
BEGIN:STANDARD
TZOFFSETFROM:-0700
TZOFFSETTO:-0800
TZNAME:PST
DTSTART:20251102T090000
END:STANDARD
END:VTIMEZONE
BEGIN:VEVENT
DTSTART;TZID=America/Los_Angeles:20250412T173000
DTEND;TZID=America/Los_Angeles:20250412T210000
DTSTAMP:20260424T072602
CREATED:20241017T001819Z
LAST-MODIFIED:20241017T003056Z
UID:10003558-1744479000-1744491600@www.omega-gymnastics.com
SUMMARY:Parent's Great Escape:  Movie - STRANGE WORLD
DESCRIPTION:Looking for a fun-filled evening for your child? \nOMEGA has got you covered with our Parent’s Great Escape Nights.  This event allows children aged 5 to 12 to have a blast at the gym while parents enjoy a well-deserved night out\, quality time\, or other engagements.  \nConveniently register on-line or by contacting the Front Office via email or phone at 503.466.4872. \nPre-Registration is Required.  \n CLICK HERE TO REGISTER \n  \nSEE ALL OUR EVENTS \n  \n\n\n\n 
URL:https://www.omega-gymnastics.com/event/parents-great-escape-movie-strange-world/
CATEGORIES:Parent Great Escapes
ATTACH;FMTTYPE=image/png:https://www.omega-gymnastics.com/wp-content/uploads/2024/10/STRANGE-WORLD.png
ORGANIZER;CN="OMEGA Gymnastics":MAILTO:info@omega-gymnastics.com
END:VEVENT
END:VCALENDAR